BEGIN:VCALENDAR
VERSION:2.0
PRODID:-//ChamberMaster//Event Calendar 2.0//EN
METHOD:PUBLISH
X-PUBLISHED-TTL:P1H
REFRESH-INTERVAL:P1H
CALSCALE:GREGORIAN
BEGIN:VTIMEZONE
TZID:America/Los_Angeles
BEGIN:DAYLIGHT
RRULE:FREQ=YEARLY;BYMONTH=3;BYDAY=2SU
DTSTART:20070101T000000
TZOFFSETFROM:-0800
TZOFFSETTO:-0700
TZNAME:Pacific Daylight Time
END:DAYLIGHT
BEGIN:STANDARD
RRULE:FREQ=YEARLY;BYMONTH=11;BYDAY=1SU
DTSTART:20070101T000000
TZOFFSETFROM:-0700
TZOFFSETTO:-0800
TZNAME:Pacific Standard Time
END:STANDARD
END:VTIMEZONE
BEGIN:VEVENT
DTSTART;TZID=America/Los_Angeles:20260506T113000
DTEND;TZID=America/Los_Angeles:20260506T140000
X-MICROSOFT-CDO-ALLDAYEVENT:FALSE
SUMMARY:Kitava Grand Opening Week Kickoff & Ribbon Cutting Ceremony
DESCRIPTION:Join the Walnut Creek Chamber of Commerce to celebrate Kitava's Grand Opening Week with a Ribbon Cutting Ceremony on Wednesday\, May 6th at 11:30am. Hear from Kitava's CEO & Co-Founder Bryan Tublin about Kitava's mission to nourish communities through real food! Guests are welcome to enjoy a nourishing meal afterward at Kitava\, and will receive a FREE BEVERAGE with any meal purchase! ABOUT KITAVA Kitava is a clean casual restaurant serving Modern American cuisine with a local twist\, with meals centered around nutritious veggies\, healthy fats\, and mindful proteins. Our menu features comforting meals for any diet\, with a focus on serving real food everyone can enjoy.
X-ALT-DESC;FMTTYPE=text/html:<!DOCTYPE html><html><head><title></title></head><body aria-disabled="false"><p>Join the Walnut Creek Chamber of Commerce to celebrate Kitava&#39\;s Grand Opening Week with a Ribbon Cutting Ceremony on Wednesday\, May 6th at 11:30am. Hear from Kitava&#39\;s CEO &amp\; Co-Founder Bryan Tublin about Kitava&#39\;s mission to nourish communities through real food! Guests are welcome to enjoy a nourishing meal afterward at Kitava\, and will receive a FREE BEVERAGE with any meal purchase! ABOUT KITAVA Kitava is a clean casual restaurant serving Modern American cuisine with a local twist\, with meals centered around nutritious veggies\, healthy fats\, and mindful proteins. Our menu features comforting meals for any diet\, with a focus on serving real food everyone can enjoy.</p></body></html>
LOCATION:1699 N California Blvd Walnut Creek CA 94596
UID:e.4347.1451404
SEQUENCE:3
DTSTAMP:20260425T111103Z
URL:https://members.walnut-creek.com/events/Details/kitava-grand-opening-week-kickoff-ribbon-cutting-ceremony-1719131?sourceTypeId=Hub
END:VEVENT
END:VCALENDAR
